BEGIN:VCALENDAR
PRODID:-//AT Content Types//AT Event//EN
VERSION:2.0
METHOD:PUBLISH
BEGIN:VEVENT
DTSTAMP:20260424T164140Z
CREATED:20220606T095000Z
UID:ATEvent-c7eea245106c4aaaa0c3bd44df0841bc
LAST-MODIFIED:20220824T102126Z
SUMMARY:Local Plan Q&A at Whitburn Parish Hall
DTSTART:20220708T170000Z
DTEND:20220708T190000Z
DESCRIPTION:Officers will provide a short presentation on the Local Pl
 an and this will be followed by a question and answer session.
CLASS:PUBLIC
END:VEVENT
END:VCALENDAR
