BEGIN:VCALENDAR
PRODID:-//AT Content Types//AT Event//EN
VERSION:2.0
METHOD:PUBLISH
BEGIN:VEVENT
DTSTAMP:20260424T152703Z
CREATED:20220606T094959Z
UID:ATEvent-eab419d727e14121ac9c43dae47db3f8
LAST-MODIFIED:20220824T102126Z
SUMMARY:Local Plan Q&A at South Shields Town Hall
DTSTART:20220718T090000Z
DTEND:20220718T110000Z
DESCRIPTION:Officers will provide a short presentation on the Local Pl
 an and this will be followed by a question and answer session.
CLASS:PUBLIC
END:VEVENT
END:VCALENDAR
