BEGIN:VCALENDAR
PRODID:-//AT Content Types//AT Event//EN
VERSION:2.0
METHOD:PUBLISH
BEGIN:VEVENT
DTSTAMP:20260424T152520Z
CREATED:20220606T095000Z
UID:ATEvent-f7d5564ce5054179af862f646ddc4c6c
LAST-MODIFIED:20220824T102126Z
SUMMARY:Local Plan Q&A at Hedworthfield Community Association
DTSTART:20220704T170000Z
DTEND:20220704T190000Z
DESCRIPTION:Officers will provide a short presentation on the Local Pl
 an and this will be followed by a question and answer session.
CLASS:PUBLIC
END:VEVENT
END:VCALENDAR
