BEGIN:VCALENDAR
PRODID:-//AT Content Types//AT Event//EN
VERSION:2.0
METHOD:PUBLISH
BEGIN:VEVENT
DTSTAMP:20260424T152636Z
CREATED:20220615T065021Z
UID:ATEvent-d0a289495df9485080a867fcab44e7d4
LAST-MODIFIED:20220824T102126Z
SUMMARY:Local Plan Q&A at Hedworthfield Community Association
DTSTART:20220721T090000Z
DTEND:20220721T110000Z
DESCRIPTION:Officers will provide a short presentation on the Local Pl
 an and this will be followed by a question and answer session.
CLASS:PUBLIC
END:VEVENT
END:VCALENDAR
