BEGIN:VCALENDAR
PRODID:-//AT Content Types//AT Event//EN
VERSION:2.0
METHOD:PUBLISH
BEGIN:VEVENT
DTSTAMP:20260424T152932Z
CREATED:20220606T095000Z
UID:ATEvent-3d6be2e978374431a5ca4088f0629700
LAST-MODIFIED:20220824T102126Z
SUMMARY:Local Plan Q&A at East Boldon Junior School
DTSTART:20220706T170000Z
DTEND:20220706T190000Z
DESCRIPTION:Officers will provide a short presentation on the Local Pl
 an and this will be followed by a question and answer session.
CLASS:PUBLIC
END:VEVENT
END:VCALENDAR
