BEGIN:VCALENDAR
PRODID:-//AT Content Types//AT Event//EN
VERSION:2.0
METHOD:PUBLISH
BEGIN:VEVENT
DTSTAMP:20260424T163912Z
CREATED:20220606T094959Z
UID:ATEvent-9dc9caf80d4547eb815dfb1824b49765
LAST-MODIFIED:20220824T102126Z
SUMMARY:Local Plan Q&A at Cleadon Methodist Church
DTSTART:20220707T170000Z
DTEND:20220707T190000Z
DESCRIPTION:Officers will provide a short presentation on the Local Pl
 an and this will be followed by a question and answer session.
CLASS:PUBLIC
END:VEVENT
END:VCALENDAR
