BEGIN:VCALENDAR
PRODID:-//AT Content Types//AT Event//EN
VERSION:2.0
METHOD:PUBLISH
BEGIN:VEVENT
DTSTAMP:20260424T152907Z
CREATED:20220615T065021Z
UID:ATEvent-986c7e76ae424a9cab9e794d2070c077
LAST-MODIFIED:20220824T102126Z
SUMMARY:Local Plan Q&A at Cleadon Methodist Church
DTSTART:20220719T090000Z
DTEND:20220719T110000Z
DESCRIPTION:Officers will provide a short presentation on the Local Pl
 an and this will be followed by a question and answer session.
CLASS:PUBLIC
END:VEVENT
END:VCALENDAR
