BEGIN:VCALENDAR
PRODID:-//AT Content Types//AT Event//EN
VERSION:2.0
METHOD:PUBLISH
BEGIN:VEVENT
DTSTAMP:20260424T163958Z
CREATED:20220606T094959Z
UID:ATEvent-7aca52e332d84ef582da8457baa93737
LAST-MODIFIED:20220824T102126Z
SUMMARY:Local Plan Q&A at Boldon Community Association
DTSTART:20220720T170000Z
DTEND:20220720T190000Z
DESCRIPTION:Officers will provide a short presentation on the Local Pl
 an and this will be followed by a question and answer session.
CLASS:PUBLIC
END:VEVENT
END:VCALENDAR
