BEGIN:VCALENDAR
PRODID:-//AT Content Types//AT Event//EN
VERSION:2.0
METHOD:PUBLISH
BEGIN:VEVENT
DTSTAMP:20260424T164258Z
CREATED:20220615T065021Z
UID:ATEvent-1977b0088ac44adbacb532435d0f0343
LAST-MODIFIED:20220824T102126Z
SUMMARY:Local Plan Q&A at Boldon Community Association
DTSTART:20220722T090000Z
DTEND:20220722T110000Z
DESCRIPTION:Officers will provide a short presentation on the Local Pl
 an and this will be followed by a question and answer session.
CLASS:PUBLIC
END:VEVENT
END:VCALENDAR
