BEGIN:VCALENDAR
PRODID:-//AT Content Types//AT Event//EN
VERSION:2.0
METHOD:PUBLISH
BEGIN:VEVENT
DTSTAMP:20260424T163912Z
CREATED:20220606T094959Z
UID:ATEvent-48220dd248c24e0785f8d8493e3f5d2e
LAST-MODIFIED:20220824T102126Z
SUMMARY:Local Plan Q&A at Jarrow Focus
DTSTART:20220712T090000Z
DTEND:20220712T110000Z
DESCRIPTION:Officers will be available to discuss the Local Plan and a
 nswer any questions you may have.
CLASS:PUBLIC
END:VEVENT
END:VCALENDAR
