BEGIN:VCALENDAR
PRODID:-//AT Content Types//AT Event//EN
VERSION:2.0
METHOD:PUBLISH
BEGIN:VEVENT
DTSTAMP:20260424T152545Z
CREATED:20220606T094959Z
UID:ATEvent-851012a3bc204dde8fca47b7b2b605ce
LAST-MODIFIED:20220824T102126Z
SUMMARY:Local Plan Q&A at Hebburn Central
DTSTART:20220714T090000Z
DTEND:20220714T110000Z
DESCRIPTION:Officers will be available to discuss the Local Plan and a
 nswer any questions you may have.
CLASS:PUBLIC
END:VEVENT
END:VCALENDAR
